BEGIN:VCALENDAR
VERSION:2.0
PRODID:spatie/icalendar-generator
DESCRIPTION:Events from Randori SKC
X-WR-CALDESC:Events from Randori SKC
REFRESH-INTERVAL;VALUE=DURATION:PT1440M
X-PUBLISHED-TTL:PT1440M
BEGIN:VTIMEZONE
TZID:Europe/London
BEGIN:STANDARD
DTSTART:20241027T020000Z
TZOFFSETFROM:+0100
TZOFFSETTO:+0000
END:STANDARD
BEGIN:DAYLIGHT
DTSTART:20250330T010000Z
TZOFFSETFROM:+0000
TZOFFSETTO:+0100
END:DAYLIGHT
END:VTIMEZONE
BEGIN:VTIMEZONE
TZID:UTC
BEGIN:STANDARD
DTSTART:20250725T084412Z
TZOFFSETFROM:+0000
TZOFFSETTO:+0000
END:STANDARD
END:VTIMEZONE
BEGIN:VEVENT
UID:5144-28
DTSTAMP:20260421T084412Z
SUMMARY:Training with Shinji Nagaki Sensei - 3rd Kyu and Above - Calday Gra
 nge Grammar School
LOCATION:Calday Grange Grammar School Grammar School Lane  Newton  CH48 8GG
ORGANIZER;CN=Paul:MAILTO:paulatkinson616@hotmail.com
DTSTART;TZID=Europe/London:20250323T123000
DTEND;TZID=Europe/London:20250323T143000
X-ALT-DESC;FMTTYPE=TEXT/HTML:Randori SKC and HDKI GB are proud to host\, an
 d welcome you all to come and train with\, Shinji Nagaki Sensei Sunday 23r
 d March 2025 Calday Grange Grammar SchoolGrammar School LaneNewtonWest Kir
 byWirralCH48 8GG 1000-1200 All Grades1230-1430 Brown Belts and Above £20 
 for 1 session£30 for 2 sessions Open to all associations and styles Conta
 ct Stuart&amp;hellip\;
CATEGORIES:Seminar
URL;VALUE=URI:https://www.randoriskc.co.uk/mc-events/training-with-shinji-n
 agaki-sensei-3rd-kyu-and-above-calday-grange-grammar-school/
METHOD:PUBLISH
END:VEVENT
END:VCALENDAR